BEGIN:VCALENDAR
VERSION:2.0
PRODID:WP Simple Booking Calendar - Calendar ID: 1
METHOD:PUBLISH
X-WR-CALNAME:Calendrier des activités de l'association Autisme Neuchâtel - 
 WP Simple Booking Calendar
X-WR-CALDESC:ICS File generated with WP Simple Booking Calendar
X-WR-TIMEZONE:Europe/Zurich
X-MICROSOFT-CDO-ALLDAYEVENT:TRUE
BEGIN:VEVENT
UID:MTEyMDIwMDkwNTIwMjAwOTA2
DTSTAMP:20260422T103415Z
COMMENT:
CLASS:PUBLIC
DESCRIPTION:Ciné'Douceur
DTSTART;VALUE=DATE:20200905
DTEND;VALUE=DATE:20200906
LOCATION:
ORGANIZER:
SEQUENCE:0
STATUS:CONFIRMED
SUMMARY:Ciné'Douceur
TRANSP:OPAQUE
END:VEVENT
BEGIN:VEVENT
UID:MTIyMDIwMDkwNzIwMjAwOTA4
DTSTAMP:20260422T103415Z
COMMENT:
CLASS:PUBLIC
DESCRIPTION:Café desparents et Coca des Ados
DTSTART;VALUE=DATE:20200907
DTEND;VALUE=DATE:20200908
LOCATION:
ORGANIZER:
SEQUENCE:0
STATUS:CONFIRMED
SUMMARY:Café desparents et Coca des Ados
TRANSP:OPAQUE
END:VEVENT
BEGIN:VEVENT
UID:MTMyMDIwMDkxMzIwMjAwOTE0
DTSTAMP:20260422T103415Z
COMMENT:
CLASS:PUBLIC
DESCRIPTION:Sortie des familles : Aquatis
DTSTART;VALUE=DATE:20200913
DTEND;VALUE=DATE:20200914
LOCATION:
ORGANIZER:
SEQUENCE:0
STATUS:CONFIRMED
SUMMARY:Sortie des familles : Aquatis
TRANSP:OPAQUE
END:VEVENT
BEGIN:VEVENT
UID:MTQyMDIwMTAwNTIwMjAxMDA2
DTSTAMP:20260422T103415Z
COMMENT:
CLASS:PUBLIC
DESCRIPTION:Café des parents et Coca des Ados
DTSTART;VALUE=DATE:20201005
DTEND;VALUE=DATE:20201006
LOCATION:
ORGANIZER:
SEQUENCE:0
STATUS:CONFIRMED
SUMMARY:Café des parents et Coca des Ados
TRANSP:OPAQUE
END:VEVENT
BEGIN:VEVENT
UID:MTUyMDIwMTEwMjIwMjAxMTAz
DTSTAMP:20260422T103415Z
COMMENT:
CLASS:PUBLIC
DESCRIPTION:Café des parents et Coca des Ados
DTSTART;VALUE=DATE:20201102
DTEND;VALUE=DATE:20201103
LOCATION:
ORGANIZER:
SEQUENCE:0
STATUS:CONFIRMED
SUMMARY:Café des parents et Coca des Ados
TRANSP:OPAQUE
END:VEVENT
BEGIN:VEVENT
UID:MTYyMDIwMTExNDIwMjAxMTE1
DTSTAMP:20260422T103415Z
COMMENT:
CLASS:PUBLIC
DESCRIPTION:Souper des parents
DTSTART;VALUE=DATE:20201114
DTEND;VALUE=DATE:20201115
LOCATION:
ORGANIZER:
SEQUENCE:0
STATUS:CONFIRMED
SUMMARY:Souper des parents
TRANSP:OPAQUE
END:VEVENT
BEGIN:VEVENT
UID:MTcyMDIwMTIwNzIwMjAxMjA4
DTSTAMP:20260422T103415Z
COMMENT:
CLASS:PUBLIC
DESCRIPTION:Café des parents et Coca des Ados
DTSTART;VALUE=DATE:20201207
DTEND;VALUE=DATE:20201208
LOCATION:
ORGANIZER:
SEQUENCE:0
STATUS:CONFIRMED
SUMMARY:Café des parents et Coca des Ados
TRANSP:OPAQUE
END:VEVENT
BEGIN:VEVENT
UID:MTEwMjAyNDA2MDMyMDI0MDYwNA==
DTSTAMP:20260422T103415Z
COMMENT:
CLASS:PUBLIC
DESCRIPTION:Café des parents et Coca des Ados
DTSTART;VALUE=DATE:20240603
DTEND;VALUE=DATE:20240604
LOCATION:
ORGANIZER:
SEQUENCE:0
STATUS:CONFIRMED
SUMMARY:Café des parents et Coca des Ados
TRANSP:OPAQUE
END:VEVENT
BEGIN:VEVENT
UID:MTgyMDI0MDYwNTIwMjQwNjA2
DTSTAMP:20260422T103415Z
COMMENT:
CLASS:PUBLIC
DESCRIPTION:Conférence autisme et petite enfance \; les bonnes pratiques
DTSTART;VALUE=DATE:20240605
DTEND;VALUE=DATE:20240606
LOCATION:
ORGANIZER:
SEQUENCE:0
STATUS:CONFIRMED
SUMMARY:Conférence autisme et petite enfance \; les bonnes pratiques
TRANSP:OPAQUE
END:VEVENT
BEGIN:VEVENT
UID:MTkyMDI0MDYxMjIwMjQwNjEz
DTSTAMP:20260422T103415Z
COMMENT:
CLASS:PUBLIC
DESCRIPTION:Conférence autisme et petite enfance \; les bonnes pratiques
DTSTART;VALUE=DATE:20240612
DTEND;VALUE=DATE:20240613
LOCATION:
ORGANIZER:
SEQUENCE:0
STATUS:CONFIRMED
SUMMARY:Conférence autisme et petite enfance \; les bonnes pratiques
TRANSP:OPAQUE
END:VEVENT
BEGIN:VEVENT
UID:MTE0MjAyNTAxMDYyMDI1MDEwNw==
DTSTAMP:20260422T103415Z
COMMENT:
CLASS:PUBLIC
DESCRIPTION:Café des Parents\, Le CAP\, Le Landeron 20h-22h
DTSTART;VALUE=DATE:20250106
DTEND;VALUE=DATE:20250107
LOCATION:
ORGANIZER:
SEQUENCE:0
STATUS:CONFIRMED
SUMMARY:Café des Parents\, Le CAP\, Le Landeron 20h-22h
TRANSP:OPAQUE
END:VEVENT
BEGIN:VEVENT
UID:MTEyMjAyNTAxMDcyMDI1MDEwOA==
DTSTAMP:20260422T103415Z
COMMENT:
CLASS:PUBLIC
DESCRIPTION:Groupe de parole - CPNE Neuchâtel (ex-CPLN)
DTSTART;VALUE=DATE:20250107
DTEND;VALUE=DATE:20250108
LOCATION:
ORGANIZER:
SEQUENCE:0
STATUS:CONFIRMED
SUMMARY:Groupe de parole - CPNE Neuchâtel (ex-CPLN)
TRANSP:OPAQUE
END:VEVENT
BEGIN:VEVENT
UID:MTEzMjAyNTAyMDMyMDI1MDIwNA==
DTSTAMP:20260422T103415Z
COMMENT:
CLASS:PUBLIC
DESCRIPTION:Café des parents et Coca des Ados\,  Le CAP\, Le Landeron 20h-2
 2h
DTSTART;VALUE=DATE:20250203
DTEND;VALUE=DATE:20250204
LOCATION:
ORGANIZER:
SEQUENCE:0
STATUS:CONFIRMED
SUMMARY:Café des parents et Coca des Ados\,  Le CAP\, Le Landeron 20h-22h
TRANSP:OPAQUE
END:VEVENT
BEGIN:VEVENT
UID:MTE1MjAyNTAyMDcyMDI1MDIwOA==
DTSTAMP:20260422T103415Z
COMMENT:
CLASS:PUBLIC
DESCRIPTION:Comité
DTSTART;VALUE=DATE:20250207
DTEND;VALUE=DATE:20250208
LOCATION:
ORGANIZER:
SEQUENCE:0
STATUS:CONFIRMED
SUMMARY:Comité
TRANSP:OPAQUE
END:VEVENT
BEGIN:VEVENT
UID:MTQwMjAyNTAzMDEyMDI1MDMwMg==
DTSTAMP:20260422T103415Z
COMMENT:
CLASS:PUBLIC
DESCRIPTION:Indépendance de la République et Canton de Neuchâtel
DTSTART;VALUE=DATE:20250301
DTEND;VALUE=DATE:20250302
LOCATION:
ORGANIZER:
SEQUENCE:0
STATUS:CONFIRMED
SUMMARY:Indépendance de la République et Canton de Neuchâtel
TRANSP:OPAQUE
END:VEVENT
BEGIN:VEVENT
UID:MTI2MjAyNTAzMjgyMDI1MDMyOQ==
DTSTAMP:20260422T103415Z
COMMENT:
CLASS:PUBLIC
DESCRIPTION:Assemblée générale de l'association Autisme Neuchâtel
DTSTART;VALUE=DATE:20250328
DTEND;VALUE=DATE:20250329
LOCATION:
ORGANIZER:
SEQUENCE:0
STATUS:CONFIRMED
SUMMARY:Assemblée générale de l'association Autisme Neuchâtel
TRANSP:OPAQUE
END:VEVENT
BEGIN:VEVENT
UID:MTI3MjAyNTA0MDIyMDI1MDQwMw==
DTSTAMP:20260422T103415Z
COMMENT:
CLASS:PUBLIC
DESCRIPTION:Journée internationale de l'autisme. Manifestations et traditio
 nnel  film au Scala La Chaux-de-Fonds
DTSTART;VALUE=DATE:20250402
DTEND;VALUE=DATE:20250403
LOCATION:
ORGANIZER:
SEQUENCE:0
STATUS:CONFIRMED
SUMMARY:Journée internationale de l'autisme. Manifestations et traditionnel
   film au Scala La Chaux-de-Fonds
TRANSP:OPAQUE
END:VEVENT
BEGIN:VEVENT
UID:MTI4MjAyNTA0MDcyMDI1MDQwOA==
DTSTAMP:20260422T103415Z
COMMENT:
CLASS:PUBLIC
DESCRIPTION:Café des parents\, Le CAP\, Le Landeron 20h-22h
DTSTART;VALUE=DATE:20250407
DTEND;VALUE=DATE:20250408
LOCATION:
ORGANIZER:
SEQUENCE:0
STATUS:CONFIRMED
SUMMARY:Café des parents\, Le CAP\, Le Landeron 20h-22h
TRANSP:OPAQUE
END:VEVENT
BEGIN:VEVENT
UID:MTMwMjAyNTA0MDgyMDI1MDQwOQ==
DTSTAMP:20260422T103415Z
COMMENT:
CLASS:PUBLIC
DESCRIPTION:Groupe de parole - CPNE La Chaux-de-Fonds (rue de la Serre)
DTSTART;VALUE=DATE:20250408
DTEND;VALUE=DATE:20250409
LOCATION:
ORGANIZER:
SEQUENCE:0
STATUS:CONFIRMED
SUMMARY:Groupe de parole - CPNE La Chaux-de-Fonds (rue de la Serre)
TRANSP:OPAQUE
END:VEVENT
BEGIN:VEVENT
UID:MTUwMjAyNTA0MTgyMDI1MDQxOQ==
DTSTAMP:20260422T103415Z
COMMENT:
CLASS:PUBLIC
DESCRIPTION:Vendredi Saint - Vacances scolaires
DTSTART;VALUE=DATE:20250418
DTEND;VALUE=DATE:20250419
LOCATION:
ORGANIZER:
SEQUENCE:0
STATUS:CONFIRMED
SUMMARY:Vendredi Saint - Vacances scolaires
TRANSP:OPAQUE
END:VEVENT
BEGIN:VEVENT
UID:MTUyMjAyNTA0MjAyMDI1MDQyMQ==
DTSTAMP:20260422T103415Z
COMMENT:
CLASS:PUBLIC
DESCRIPTION:Pâques - Vacances scolaires
DTSTART;VALUE=DATE:20250420
DTEND;VALUE=DATE:20250421
LOCATION:
ORGANIZER:
SEQUENCE:0
STATUS:CONFIRMED
SUMMARY:Pâques - Vacances scolaires
TRANSP:OPAQUE
END:VEVENT
BEGIN:VEVENT
UID:MTUzMjAyNTA0MjEyMDI1MDQyMg==
DTSTAMP:20260422T103415Z
COMMENT:
CLASS:PUBLIC
DESCRIPTION:Lundi de Pâques - Vacances scolaires
DTSTART;VALUE=DATE:20250421
DTEND;VALUE=DATE:20250422
LOCATION:
ORGANIZER:
SEQUENCE:0
STATUS:CONFIRMED
SUMMARY:Lundi de Pâques - Vacances scolaires
TRANSP:OPAQUE
END:VEVENT
BEGIN:VEVENT
UID:MTM0MjAyNTA0MjMyMDI1MDQyNA==
DTSTAMP:20260422T103415Z
COMMENT:
CLASS:PUBLIC
DESCRIPTION:BCN Tour 1ère étape
DTSTART;VALUE=DATE:20250423
DTEND;VALUE=DATE:20250424
LOCATION:
ORGANIZER:
SEQUENCE:0
STATUS:CONFIRMED
SUMMARY:BCN Tour 1ère étape
TRANSP:OPAQUE
END:VEVENT
BEGIN:VEVENT
UID:MTM1MjAyNTA0MzAyMDI1MDUwMQ==
DTSTAMP:20260422T103415Z
COMMENT:
CLASS:PUBLIC
DESCRIPTION:BCN Tour 2ème étape
DTSTART;VALUE=DATE:20250430
DTEND;VALUE=DATE:20250501
LOCATION:
ORGANIZER:
SEQUENCE:0
STATUS:CONFIRMED
SUMMARY:BCN Tour 2ème étape
TRANSP:OPAQUE
END:VEVENT
BEGIN:VEVENT
UID:MTE3MjAyNTA1MDUyMDI1MDUwNg==
DTSTAMP:20260422T103415Z
COMMENT:
CLASS:PUBLIC
DESCRIPTION:Café des parents et Coca des Ados\,  Le CAP\, Le Landeron 20h-2
 2h
DTSTART;VALUE=DATE:20250505
DTEND;VALUE=DATE:20250506
LOCATION:
ORGANIZER:
SEQUENCE:0
STATUS:CONFIRMED
SUMMARY:Café des parents et Coca des Ados\,  Le CAP\, Le Landeron 20h-22h
TRANSP:OPAQUE
END:VEVENT
BEGIN:VEVENT
UID:MTM2MjAyNTA1MDcyMDI1MDUwOA==
DTSTAMP:20260422T103415Z
COMMENT:
CLASS:PUBLIC
DESCRIPTION:BCN Tour 3ème étape
DTSTART;VALUE=DATE:20250507
DTEND;VALUE=DATE:20250508
LOCATION:
ORGANIZER:
SEQUENCE:0
STATUS:CONFIRMED
SUMMARY:BCN Tour 3ème étape
TRANSP:OPAQUE
END:VEVENT
BEGIN:VEVENT
UID:MTM3MjAyNTA1MTQyMDI1MDUxNQ==
DTSTAMP:20260422T103415Z
COMMENT:
CLASS:PUBLIC
DESCRIPTION:BCN Tour 4ème étape
DTSTART;VALUE=DATE:20250514
DTEND;VALUE=DATE:20250515
LOCATION:
ORGANIZER:
SEQUENCE:0
STATUS:CONFIRMED
SUMMARY:BCN Tour 4ème étape
TRANSP:OPAQUE
END:VEVENT
BEGIN:VEVENT
UID:MTM4MjAyNTA1MjEyMDI1MDUyMg==
DTSTAMP:20260422T103415Z
COMMENT:
CLASS:PUBLIC
DESCRIPTION:BCN Tour 5ème étape
DTSTART;VALUE=DATE:20250521
DTEND;VALUE=DATE:20250522
LOCATION:
ORGANIZER:
SEQUENCE:0
STATUS:CONFIRMED
SUMMARY:BCN Tour 5ème étape
TRANSP:OPAQUE
END:VEVENT
BEGIN:VEVENT
UID:MTM5MjAyNTA1MjgyMDI1MDUyOQ==
DTSTAMP:20260422T103415Z
COMMENT:
CLASS:PUBLIC
DESCRIPTION:BCN Tour 6ème étape + repas des participants sous le maillot d'
 Autisme Neuchâtel
DTSTART;VALUE=DATE:20250528
DTEND;VALUE=DATE:20250529
LOCATION:
ORGANIZER:
SEQUENCE:0
STATUS:CONFIRMED
SUMMARY:BCN Tour 6ème étape + repas des participants sous le maillot d'Auti
 sme Neuchâtel
TRANSP:OPAQUE
END:VEVENT
BEGIN:VEVENT
UID:MTExOTIwMjUwNTI5MjAyNTA1MzA=
DTSTAMP:20260422T103415Z
COMMENT:
CLASS:PUBLIC
DESCRIPTION:Ascension
DTSTART;VALUE=DATE:20250529
DTEND;VALUE=DATE:20250530
LOCATION:
ORGANIZER:
SEQUENCE:0
STATUS:CONFIRMED
SUMMARY:Ascension
TRANSP:OPAQUE
END:VEVENT
BEGIN:VEVENT
UID:MTI5MjAyNTA2MDIyMDI1MDYwMw==
DTSTAMP:20260422T103415Z
COMMENT:
CLASS:PUBLIC
DESCRIPTION:Café des Parents\, Le CAP\, Le Landeron 20h-22h
DTSTART;VALUE=DATE:20250602
DTEND;VALUE=DATE:20250603
LOCATION:
ORGANIZER:
SEQUENCE:0
STATUS:CONFIRMED
SUMMARY:Café des Parents\, Le CAP\, Le Landeron 20h-22h
TRANSP:OPAQUE
END:VEVENT
BEGIN:VEVENT
UID:MTEyMDIwMjUwNjA4MjAyNTA2MDk=
DTSTAMP:20260422T103415Z
COMMENT:
CLASS:PUBLIC
DESCRIPTION:Pentecôte
DTSTART;VALUE=DATE:20250608
DTEND;VALUE=DATE:20250609
LOCATION:
ORGANIZER:
SEQUENCE:0
STATUS:CONFIRMED
SUMMARY:Pentecôte
TRANSP:OPAQUE
END:VEVENT
BEGIN:VEVENT
UID:MTEyMTIwMjUwNjA5MjAyNTA2MTA=
DTSTAMP:20260422T103415Z
COMMENT:
CLASS:PUBLIC
DESCRIPTION:Lundi de Pentecôte
DTSTART;VALUE=DATE:20250609
DTEND;VALUE=DATE:20250610
LOCATION:
ORGANIZER:
SEQUENCE:0
STATUS:CONFIRMED
SUMMARY:Lundi de Pentecôte
TRANSP:OPAQUE
END:VEVENT
BEGIN:VEVENT
UID:MTEyOTIwMjUwNjIwMjAyNTA2MjE=
DTSTAMP:20260422T103415Z
COMMENT:
CLASS:PUBLIC
DESCRIPTION:18h15\, NAFF\, Cinéma Scala\, Rue de la Serre\, La Chaux-de-Fon
 ds
DTSTART;VALUE=DATE:20250620
DTEND;VALUE=DATE:20250621
LOCATION:
ORGANIZER:
SEQUENCE:0
STATUS:CONFIRMED
SUMMARY:18h15\, NAFF\, Cinéma Scala\, Rue de la Serre\, La Chaux-de-Fonds
TRANSP:OPAQUE
END:VEVENT
BEGIN:VEVENT
UID:MTEyNDIwMjUwNjIxMjAyNTA2MjI=
DTSTAMP:20260422T103415Z
COMMENT:
CLASS:PUBLIC
DESCRIPTION:10h\,13h30\, 17h30  NAFF Cinéma Scala\, Rue de la Serre\, la Ch
 aux-de-Fonds
DTSTART;VALUE=DATE:20250621
DTEND;VALUE=DATE:20250622
LOCATION:
ORGANIZER:
SEQUENCE:0
STATUS:CONFIRMED
SUMMARY:10h\,13h30\, 17h30  NAFF Cinéma Scala\, Rue de la Serre\, la Chaux-
 de-Fonds
TRANSP:OPAQUE
END:VEVENT
BEGIN:VEVENT
UID:MTEzMDIwMjUwNjIyMjAyNTA2MjM=
DTSTAMP:20260422T103415Z
COMMENT:
CLASS:PUBLIC
DESCRIPTION:10h\, NAFF\, Cinéma Scala\, Rue de la Serre\, La Chaux-de-Fonds
DTSTART;VALUE=DATE:20250622
DTEND;VALUE=DATE:20250623
LOCATION:
ORGANIZER:
SEQUENCE:0
STATUS:CONFIRMED
SUMMARY:10h\, NAFF\, Cinéma Scala\, Rue de la Serre\, La Chaux-de-Fonds
TRANSP:OPAQUE
END:VEVENT
BEGIN:VEVENT
UID:MTgyMjAyNTA4MDEyMDI1MDgwMg==
DTSTAMP:20260422T103415Z
COMMENT:
CLASS:PUBLIC
DESCRIPTION:Fête nationale - Vacances scolaires
DTSTART;VALUE=DATE:20250801
DTEND;VALUE=DATE:20250802
LOCATION:
ORGANIZER:
SEQUENCE:0
STATUS:CONFIRMED
SUMMARY:Fête nationale - Vacances scolaires
TRANSP:OPAQUE
END:VEVENT
BEGIN:VEVENT
UID:MTMxMjAyNTA4MTkyMDI1MDgyMA==
DTSTAMP:20260422T103415Z
COMMENT:
CLASS:PUBLIC
DESCRIPTION:Groupe de parole - CPNE Neuchâtel (ex-CPLN)
DTSTART;VALUE=DATE:20250819
DTEND;VALUE=DATE:20250820
LOCATION:
ORGANIZER:
SEQUENCE:0
STATUS:CONFIRMED
SUMMARY:Groupe de parole - CPNE Neuchâtel (ex-CPLN)
TRANSP:OPAQUE
END:VEVENT
BEGIN:VEVENT
UID:MTE4MjAyNTA5MDEyMDI1MDkwMg==
DTSTAMP:20260422T103415Z
COMMENT:
CLASS:PUBLIC
DESCRIPTION:Café des parents et Coca des Ados\,  Le CAP\, Le Landeron 20h-2
 2h
DTSTART;VALUE=DATE:20250901
DTEND;VALUE=DATE:20250902
LOCATION:
ORGANIZER:
SEQUENCE:0
STATUS:CONFIRMED
SUMMARY:Café des parents et Coca des Ados\,  Le CAP\, Le Landeron 20h-22h
TRANSP:OPAQUE
END:VEVENT
BEGIN:VEVENT
UID:MTEyMjIwMjUwOTIyMjAyNTA5MjM=
DTSTAMP:20260422T103415Z
COMMENT:
CLASS:PUBLIC
DESCRIPTION:Lundi du Jeûne Fédéral
DTSTART;VALUE=DATE:20250922
DTEND;VALUE=DATE:20250923
LOCATION:
ORGANIZER:
SEQUENCE:0
STATUS:CONFIRMED
SUMMARY:Lundi du Jeûne Fédéral
TRANSP:OPAQUE
END:VEVENT
BEGIN:VEVENT
UID:MTE5MjAyNTExMDMyMDI1MTEwNA==
DTSTAMP:20260422T103415Z
COMMENT:
CLASS:PUBLIC
DESCRIPTION:Café des parents\,  Le CAP\, Le Landeron 20h-22h
DTSTART;VALUE=DATE:20251103
DTEND;VALUE=DATE:20251104
LOCATION:
ORGANIZER:
SEQUENCE:0
STATUS:CONFIRMED
SUMMARY:Café des parents\,  Le CAP\, Le Landeron 20h-22h
TRANSP:OPAQUE
END:VEVENT
BEGIN:VEVENT
UID:MTIwMjAyNTExMDgyMDI1MTEwOQ==
DTSTAMP:20260422T103415Z
COMMENT:
CLASS:PUBLIC
DESCRIPTION:Souper des parents 2025
DTSTART;VALUE=DATE:20251108
DTEND;VALUE=DATE:20251109
LOCATION:
ORGANIZER:
SEQUENCE:0
STATUS:CONFIRMED
SUMMARY:Souper des parents 2025
TRANSP:OPAQUE
END:VEVENT
BEGIN:VEVENT
UID:MTMyMjAyNTExMTEyMDI1MTExMg==
DTSTAMP:20260422T103415Z
COMMENT:
CLASS:PUBLIC
DESCRIPTION:Groupe de parole - CPNE La Chaux-de-Fonds (rue de la Serre)
DTSTART;VALUE=DATE:20251111
DTEND;VALUE=DATE:20251112
LOCATION:
ORGANIZER:
SEQUENCE:0
STATUS:CONFIRMED
SUMMARY:Groupe de parole - CPNE La Chaux-de-Fonds (rue de la Serre)
TRANSP:OPAQUE
END:VEVENT
BEGIN:VEVENT
UID:MTIxMjAyNTEyMDEyMDI1MTIwMg==
DTSTAMP:20260422T103415Z
COMMENT:
CLASS:PUBLIC
DESCRIPTION:Café des parents et Coca des Ados\,  Le CAP\, Le Landeron 20h-2
 2h
DTSTART;VALUE=DATE:20251201
DTEND;VALUE=DATE:20251202
LOCATION:
ORGANIZER:
SEQUENCE:0
STATUS:CONFIRMED
SUMMARY:Café des parents et Coca des Ados\,  Le CAP\, Le Landeron 20h-22h
TRANSP:OPAQUE
END:VEVENT
BEGIN:VEVENT
UID:MTExMTIwMjUxMjI1MjAyNTEyMjY=
DTSTAMP:20260422T103415Z
COMMENT:
CLASS:PUBLIC
DESCRIPTION:Noël - Vacances scolaires
DTSTART;VALUE=DATE:20251225
DTEND;VALUE=DATE:20251226
LOCATION:
ORGANIZER:
SEQUENCE:0
STATUS:CONFIRMED
SUMMARY:Noël - Vacances scolaires
TRANSP:OPAQUE
END:VEVENT
BEGIN:VEVENT
UID:MTEzMTIwMjYwMzAxMjAyNjAzMDI=
DTSTAMP:20260422T103415Z
COMMENT:
CLASS:PUBLIC
DESCRIPTION:Parcours du 2 avril neuchâtelois
DTSTART;VALUE=DATE:20260301
DTEND;VALUE=DATE:20260302
LOCATION:
ORGANIZER:
SEQUENCE:0
STATUS:CONFIRMED
SUMMARY:Parcours du 2 avril neuchâtelois
TRANSP:OPAQUE
END:VEVENT
BEGIN:VEVENT
UID:MTEzMjIwMjYwMzAyMjAyNjAzMDM=
DTSTAMP:20260422T103415Z
COMMENT:
CLASS:PUBLIC
DESCRIPTION:Cinéma pour le 2 avril et parcours du 2 avril
DTSTART;VALUE=DATE:20260302
DTEND;VALUE=DATE:20260303
LOCATION:
ORGANIZER:
SEQUENCE:0
STATUS:CONFIRMED
SUMMARY:Cinéma pour le 2 avril et parcours du 2 avril
TRANSP:OPAQUE
END:VEVENT
BEGIN:VEVENT
UID:MTEzMzIwMjYwMzA2MjAyNjAzMDc=
DTSTAMP:20260422T103415Z
COMMENT:
CLASS:PUBLIC
DESCRIPTION:Vendredi Saint
DTSTART;VALUE=DATE:20260306
DTEND;VALUE=DATE:20260307
LOCATION:
ORGANIZER:
SEQUENCE:0
STATUS:CONFIRMED
SUMMARY:Vendredi Saint
TRANSP:OPAQUE
END:VEVENT
BEGIN:VEVENT
UID:MTEzNDIwMjYwMzA3MjAyNjAzMDg=
DTSTAMP:20260422T103415Z
COMMENT:
CLASS:PUBLIC
DESCRIPTION:
DTSTART;VALUE=DATE:20260307
DTEND;VALUE=DATE:20260308
LOCATION:
ORGANIZER:
SEQUENCE:0
STATUS:CONFIRMED
SUMMARY:
TRANSP:OPAQUE
END:VEVENT
BEGIN:VEVENT
UID:MTEzNTIwMjYwMzA4MjAyNjAzMDk=
DTSTAMP:20260422T103415Z
COMMENT:
CLASS:PUBLIC
DESCRIPTION:Pâques
DTSTART;VALUE=DATE:20260308
DTEND;VALUE=DATE:20260309
LOCATION:
ORGANIZER:
SEQUENCE:0
STATUS:CONFIRMED
SUMMARY:Pâques
TRANSP:OPAQUE
END:VEVENT
BEGIN:VEVENT
UID:MTEzNjIwMjYwMzA5MjAyNjAzMTA=
DTSTAMP:20260422T103415Z
COMMENT:
CLASS:PUBLIC
DESCRIPTION:Lundi de Pâques
DTSTART;VALUE=DATE:20260309
DTEND;VALUE=DATE:20260310
LOCATION:
ORGANIZER:
SEQUENCE:0
STATUS:CONFIRMED
SUMMARY:Lundi de Pâques
TRANSP:OPAQUE
END:VEVENT
END:VCALENDAR